BEGIN:VCALENDAR
VERSION:2.0
METHOD:PUBLISH
X-WR-CALNAME:Jász Napló |  augusztus 27 2009- augusztus 27 2009
PRODID:-//strange bird labs//Drupal iCal API//EN
BEGIN:VEVENT
DTSTAMP;VALUE=DATE-TIME:20260423T122613Z
DTSTART;VALUE=DATE-TIME:20090801T070000Z
DTEND;VALUE=DATE-TIME:20090831T150000Z
UID:http://jasznaplo.hu/fejer-maria-nepi-diszitomuveszeti-szakkor-kiallitasa
URL;VALUE=URI:http://jasznaplo.hu/fejer-maria-nepi-diszitomuveszeti-szakkor-kiallitasa
SUMMARY:Fejér Mária Népi Díszítőművészeti Szakkör kiállítása
DESCRIPTION:<p>Déryné Művelődési Központ aula</p>
 <p><strong></strong></p>
 <p>A 30 ÉVES<br />
 FEJÉR MÁRIA<br />
 NÉPI DÍSZÍTŐMŰVÉSZETI SZAKKÖR KIÁLLÍTÁSA</p>
 <p></p>
 
END:VEVENT
BEGIN:VEVENT
DTSTAMP;VALUE=DATE-TIME:20260423T122613Z
DTSTART;VALUE=DATE-TIME:20090818T090000Z
DTEND;VALUE=DATE-TIME:20090828T160000Z
UID:http://jasznaplo.hu/zala-tibor-kiallitasa
URL;VALUE=URI:http://jasznaplo.hu/zala-tibor-kiallitasa
SUMMARY:Zala Tibor kiállítása
DESCRIPTION:<p>Déryné u. 6. </p>
 <p><strong>ZALA TIBOR<br />
 (1920-2004)<br />
 kétszeres Munkácsy-díjas\, Budapest Pro Urbe díjas\, Érdemes Művész<strong><br />
 GRAFIKUS KIÁLLÍTÁSA</strong></strong> </p>
 <p>Megnyitó\: <strong><em>augusztus 18. (kedd) 17.00 óra<br />
 </em></strong>Látogatható\:<br />
 hétköznap <strong><em>10.00 – 17.00 óráig<br />
 </em></strong>szombaton <strong><em>14.00 – 17.00 óráig</em></strong></p>
 
END:VEVENT
END:VCALENDAR
